BEGIN:VCALENDAR
VERSION:2.0
PRODID:-//Trout Unlimited Deschutes Chapter - ECPv6.15.20//NONSGML v1.0//EN
CALSCALE:GREGORIAN
METHOD:PUBLISH
X-ORIGINAL-URL:https://deschutesredbands.org
X-WR-CALDESC:Events for Trout Unlimited Deschutes Chapter
REFRESH-INTERVAL;VALUE=DURATION:PT1H
X-Robots-Tag:noindex
X-PUBLISHED-TTL:PT1H
BEGIN:VTIMEZONE
TZID:America/Los_Angeles
BEGIN:DAYLIGHT
TZOFFSETFROM:-0800
TZOFFSETTO:-0700
TZNAME:PDT
DTSTART:20240310T100000
END:DAYLIGHT
BEGIN:STANDARD
TZOFFSETFROM:-0700
TZOFFSETTO:-0800
TZNAME:PST
DTSTART:20241103T090000
END:STANDARD
BEGIN:DAYLIGHT
TZOFFSETFROM:-0800
TZOFFSETTO:-0700
TZNAME:PDT
DTSTART:20250309T100000
END:DAYLIGHT
BEGIN:STANDARD
TZOFFSETFROM:-0700
TZOFFSETTO:-0800
TZNAME:PST
DTSTART:20251102T090000
END:STANDARD
BEGIN:DAYLIGHT
TZOFFSETFROM:-0800
TZOFFSETTO:-0700
TZNAME:PDT
DTSTART:20260308T100000
END:DAYLIGHT
BEGIN:STANDARD
TZOFFSETFROM:-0700
TZOFFSETTO:-0800
TZNAME:PST
DTSTART:20261101T090000
END:STANDARD
END:VTIMEZONE
BEGIN:VTIMEZONE
TZID:UTC
BEGIN:STANDARD
TZOFFSETFROM:+0000
TZOFFSETTO:+0000
TZNAME:UTC
DTSTART:20230101T000000
END:STANDARD
END:VTIMEZONE
BEGIN:VEVENT
DTSTART;TZID=America/Los_Angeles:20250419T083000
DTEND;TZID=America/Los_Angeles:20250419T123000
DTSTAMP:20260421T103953
CREATED:20250405T204622Z
LAST-MODIFIED:20250405T204622Z
UID:609-1745051400-1745065800@deschutesredbands.org
SUMMARY:Oregon Council of Trout Unlimited Spring Meeting - April 19th 2025
DESCRIPTION:Oregon TU Leaders and Members\,\nPlease join us in-person or by Zoom for our Annual Spring Council meeting in Bend\, Oregon.\n\nSaturday April 19th 8:30am to 12:30pm\nGreetings\, Zoom and refreshments start at 8:30. Formal meeting 9am to Noonish.\nPlenty of time to go fishing.\n\nLocation: Classroom 3 at the Larkspur Community Center\n1600 SE Reed Market Rd\, Bend\, OR 97702\, USA\nLarkspur Community Center – Bend Park and Recreation District\n\n\nDraft Agenda:\n> Fall 2024 Meeting Minutes review.\n> OCTU Budget review and approval of the 2025-26 budget.\n> OCTU Leadership review (Per OCTU Bylaws Officer Elections are required at the Fall Council meeting\, October 2025)\n> Officer Reports\n> Committee Reports\n> Chapter Roundtable\n> TU Staff Reports\n> Advocacy Report\n\n\nClick Here to Join Zoom Meeting
URL:https://deschutesredbands.org/event/oregon-council-of-trout-unlimited-spring-meeting-april-19th-2025/
LOCATION:Larkspur Community Center\, 1600 SE Reed Market Rd\, Bend\, OR\, 97702
CATEGORIES:Main Page Events
END:VEVENT
BEGIN:VEVENT
DTSTART;TZID=UTC:20250111T180000
DTEND;TZID=UTC:20250111T210000
DTSTAMP:20260421T103953
CREATED:20241211T235924Z
LAST-MODIFIED:20241218T004803Z
UID:593-1736618400-1736629200@deschutesredbands.org
SUMMARY:2025 International Fly Fishing Film Festival
DESCRIPTION:2025 INTERNATIONAL FLY FISHING FILM FESTIVAL \nTower Theatre | January 11\, 2025 (Saturday!) \nDoors Open at 6:00 PM; Films Start at 7:00 PM \nBuy tickets through the Tower Theatre  \n\n\nThe Deschutes Redbands Chapter of Trout Unlimited is putting on a show! \nJoin us for some incredible fly fishing films from around the world. Who doesn’t need a little flats fishing fix this winter or the opportunity to drool over that perfect double haul toward a tarpon or a long spey cast to a steelhead. Is this a perfect date night or what!!!  And we’ll have a raffle for fly fishing prizes including guided trips. \nAll proceeds stay in the Deschutes Basin for our\nChapter’s conservation and education efforts. \nBuy Tickets Now!
URL:https://deschutesredbands.org/event/2025-international-fly-fishing-film-festival/
LOCATION:Tower Theatre\, 835 NW Wall Street\, Bend\, OR\, 97703\, United States
CATEGORIES:Main Page Events
ATTACH;FMTTYPE=image/jpeg:https://deschutesredbands.org/wp-content/uploads/2024/12/FF_IF4_24_SOCIAL_INSTAGRAMPOST-BEND-OR-1.jpg
END:VEVENT
BEGIN:VEVENT
DTSTART;VALUE=DATE:20241102
DTEND;VALUE=DATE:20241104
DTSTAMP:20260421T103953
CREATED:20241011T211316Z
LAST-MODIFIED:20241011T213350Z
UID:512-1730505600-1730678399@deschutesredbands.org
SUMMARY:White Salmon River Spawning Survey Volunteer Opportunity
DESCRIPTION:The White Salmon Spawning Survey Project needs the help of community scientists like you! With your help gathering data about the number of fish in tributaries to the White Salmon River can help us better understand the impact of dam removal and the recovery rates of our unique native fish\, like coho and steelhead.  Visit the Project webpage here. \nJoin us on Saturday\, November 2nd or Sunday\, November 3rd for in-person training in White Salmon! Just follow this link to sign up. \n 
URL:https://deschutesredbands.org/event/white-salmon-river-spawning-survey-volunteer-opportunity/
LOCATION:OR
CATEGORIES:Main Page Events
ATTACH;FMTTYPE=image/jpeg:https://deschutesredbands.org/wp-content/uploads/2024/10/TroutUnlimitedWhiteSalmonProject2024.jpg
END:VEVENT
BEGIN:VEVENT
DTSTART;VALUE=DATE:20241014
DTEND;VALUE=DATE:20241026
DTSTAMP:20260421T103953
CREATED:20241011T210835Z
LAST-MODIFIED:20241011T213405Z
UID:506-1728864000-1729900799@deschutesredbands.org
SUMMARY:Deschutes Salmonfly Project - Volunteer Opportunity with Native Fish Society
DESCRIPTION:Native Fish Society and The Salmonfly Project are conducting a crucial aquatic insect and habitat monitoring program on the Lower Deschutes River\, and we’re looking for volunteers to assist from October 14th to 25th! \nAbout the Project \nThis project aims to: \nIdentify the current status and recent trends of aquatic insect populations on the lower Deschutes River; and\,\nEvaluate the best methods for surveying insects on large rivers like the Deschutes.\nUltimately\, the goal of the project is to help local managers and stakeholders identify at-risk insects and potential threats to be mitigated. \nHow can you help? \nVolunteers are needed from Oct 14 – 25th to help the Salmonfly Project and Native Fish Society staff perform insect and habitat surveys on the lower Deschutes River. \nVolunteer Details \nDates: October 14th to 25th\nTime: 9 am – 5 pm each day\n*Note: A minimum volunteer-time of 4 hours is required to allow sufficient time for training\, but full 8-hour days are preferred for more efficient sampling.\nLocation: Various sites along the Lower Deschutes (Warm Springs Boat Ramp to Mack’s Canyon). See here for location details by date.\nWhat to bring: Waders\, boots\, food\, water\, and weather-appropriate clothes.\nNo Experience Necessary – only the ability to wade confidently in knee-deep water while carrying nets/supplies.\nSign Up: Let us know what day(s) you’re available to volunteer HERE. \nIf you have any questions\, please feel free to contact Jackson Birrell at conservation@salmonflyproject.org or 413-446-3669.
URL:https://deschutesredbands.org/event/deschutes-salmonfly-project-volunteer-opportunity-with-native-fish-society/
LOCATION:Various sites on teh
CATEGORIES:Main Page Events
ATTACH;FMTTYPE=image/png:https://deschutesredbands.org/wp-content/uploads/2024/10/Salmonfly-Project.png
END:VEVENT
END:VCALENDAR